BEGIN:VCALENDAR
VERSION:2.0
PRODID:-//UNIFR/WEBMASTER//NONSGML v1.0//EN
CALSCALE:GREGORIAN
BEGIN:VEVENT
DTSTART;VALUE=DATE:20220413T171500
DTEND;VALUE=DATE:20220413T190000
UID:10964@agenda.unifr.ch
DESCRIPTION:Enquêter sur les filles du coin, c’est tenir compte du quotidien des filles qui ne sont pas parties, qui n’ont pas pu partir, qui ont dû ou ont choisi de rester dans leur hameau ou leur village, dans leur petite ville. Il s’agit de jeunes femmes qui sont sorties du système scolaire sans qualification ou qui ont suivi la voie professionnelle, qui ont eu le bac, qui sont allées dans l’enseignement supérieur mais dont elles sont rarement sorties avec un diplôme, et qui sont revenues dans « leur » village,\n« leur » « chez-elle ». D’autres sont en emploi ou en recherche d’emploi… Il s’agira ici d’analyser plus particulièrement la construction des réseaux de solidarités et d’exclusion en milieu rural populaire du point de vue du genre et de considérer les processus de déclassement qu’ils révèlent.
SUMMARY:« Nous » et « les autres ». Processus d’exclusion entre jeunes femmes de classe populaire dans les campagnes
CATEGORIES:Conférence
LOCATION:MIS 03\, 3000 A\, Avenue de l'Europe 20\, 1700 Fribourg
URL;VALUE=URI:https://agenda.unifr.ch/e/fr/10964
END:VEVENT
END:VCALENDAR