BEGIN:VCALENDAR
VERSION:2.0
PRODID:-//UNIFR/WEBMASTER//NONSGML v1.0//EN
CALSCALE:GREGORIAN
BEGIN:VEVENT
DTSTART;VALUE=DATE:20220406T171500
DTEND;VALUE=DATE:20220406T190000
UID:10963@agenda.unifr.ch
DESCRIPTION:La notion de marge, introduite récemment en géographie, a permis d’inscrire résolument la réflexion spatiale dans le paradigme postmoderne du décentrement. Face aux déterminismes économiques qu’induisait fréquemment le modèle centre-périphérie, la marge a permis de reconsidérer des espaces restés dans l’ombre du discours structuraliste, mais majoritaires par leur extension géographique et leur poids démographique cumulé. Le terme de marge n’est cependant pas prédéterminé : sa délimitation souple, ouverte et multi-scalaire est également l’occasion de réfuter le spatialisme, c’est-à-dire les stéréotypes de lieux qui assignent les habitants d’un territoire à des caractérisations socio-économiques imposées. Après avoir résumé les écueils du spatialisme en géographie et les apports théoriques du modèle de la marge territoriale, la conférence se propose d’appliquer le concept à l’exemple des territoires ruraux afin d’en déconstruire les représentations implicites et d’aboutir à une « contre-géographie » des territoires basée sur l’impératif de justice spatiale.
SUMMARY:Penser la marge socio-spatiale : vers une contre- géographie des territoires.
CATEGORIES:Conférence
LOCATION:MIS 03\, 3000 A\, Avenue de l'Europe 20\, 1700 Fribourg
URL;VALUE=URI:https://agenda.unifr.ch/e/fr/10963
END:VEVENT
END:VCALENDAR