BEGIN:VCALENDAR
VERSION:2.0
PRODID:-//UNIFR/WEBMASTER//NONSGML v1.0//EN
CALSCALE:GREGORIAN
BEGIN:VEVENT
DTSTART;VALUE=DATE:20220330T171500
DTEND;VALUE=DATE:20220330T190000
UID:10962@agenda.unifr.ch
DESCRIPTION:Une sociologie dominante en Tunisie appréhende la marge, dans une perspective positiviste, comme un monde social en soi, générateur de toutes sortes de pathologies collectives : délinquance, incivilité et terrorisme. Des travaux plus récents se donnent pour objectifs de proposer une lecture différente de la marge et des marginalités allant, pour l’essentiel, dans trois directions : d’abord, penser la marge comme une relation pour saisir de manière critique les conflits de normativité qui la constituent (hétéronomie) ; mettre l’accent, ensuite, sur sa capacité à produire des formes d’intégration différentes et des normativités alternatives (autonomie) ; mettre en évidence, enfin, l’action d’invisibilisation politique qui touche les marges non problématiques.
SUMMARY:Marges et rapports au centre en Tunisie.
CATEGORIES:Conférence
LOCATION:MIS 03\, 3000 A\, Avenue de l'Europe 20\, 1700 Fribourg
URL;VALUE=URI:https://agenda.unifr.ch/e/fr/10962
END:VEVENT
END:VCALENDAR