BEGIN:VCALENDAR
VERSION:2.0
PRODID:-//UNIFR/WEBMASTER//NONSGML v1.0//EN
CALSCALE:GREGORIAN
BEGIN:VEVENT
DTSTART;VALUE=DATE:20220223T171500
DTEND;VALUE=DATE:20220223T190000
UID:10961@agenda.unifr.ch
DESCRIPTION:Cette conférence introductive présentera l’actualité de la thématique de la marginalité. Elle s’attachera, dans un premier temps, à saisir ce qui permet de comprendre la remontée sur le devant de la scène conceptuelle d’une notion longtemps éclipsée par celle, notamment, d’exclusion. Elle visera, dans un second temps, à éclairer le renouvellement analytique qu’elle propose, s’attachant certes toujours à qualifier les marges dans une relation systémique au centre et à la normalité, mais aussi, dans un effort de décentrement du regard, à les appréhender pour elles-mêmes dans leur singularité, leur caractère minoritaire et leurs potentialités Enfin, dans un troisième temps, elle cherchera à expliciter en quoi le trouble aux frontières qui en résulte, participe à interroger les savoirs et les pratiques des professionnels mobilisés pour intervenir sur ces confins sociaux et/ou spatiaux.
SUMMARY:Reconsidérer les marginalités
CATEGORIES:Conférence
LOCATION:MIS 03\, 3000 A\, Avenue de l'Europe 20\, 1700 Fribourg
URL;VALUE=URI:https://agenda.unifr.ch/e/fr/10961
END:VEVENT
END:VCALENDAR