BEGIN:VCALENDAR
VERSION:2.0
PRODID:-//UNIFR/WEBMASTER//NONSGML v1.0//EN
CALSCALE:GREGORIAN
BEGIN:VEVENT
DTSTART;VALUE=DATE:20220309T171500
DTEND;VALUE=DATE:20220309T190000
UID:10959@agenda.unifr.ch
DESCRIPTION:« Penser la marge, traiter la zone » : le titre souligne bien l’ambivalence qui nous saisit quand il s’agit de marginalité. D’un côté, la marge interpelle et nous force au pas de côté : elle invite au décentrement, à penser depuis un ailleurs. De l’autre, les sociétés cherchent à réparer, compenser, aménager, guérir, en somme éradiquer la zone. L’approche géographique cherche à saisir l’originalité des espaces de marge, ces interstices souvent précaires, réversibles, qui reflètent bien des logiques sociales autant que spatiales : tenir à distance, écarter, cacher. Des exemples pris dans les univers carcéraux, les espaces ultra-marins français, les mondes de la pauvreté, donneront chair à l’exposé.
SUMMARY:Des espaces excentrés et excentriques : penser la marge grâce à la géographie.
CATEGORIES:Conférence
LOCATION:MIS 03\, 3000 A\, Avenue de l'Europe 20\, 1700 Fribourg
URL;VALUE=URI:https://agenda.unifr.ch/e/fr/10959
END:VEVENT
END:VCALENDAR