BEGIN:VCALENDAR
VERSION:2.0
PRODID:-//UNIFR/WEBMASTER//NONSGML v1.0//EN
CALSCALE:GREGORIAN
BEGIN:VEVENT
DTSTART;VALUE=DATE:20220302T171500
DTEND;VALUE=DATE:20220302T190000
UID:10958@agenda.unifr.ch
DESCRIPTION:À la suite d’Apollinaire, la littérature des XXème et XXIème siècles s’est mise à explorer la « zone » autour de la ville de Paris selon des programmes tout à tour poétologique, anthropologique, sociologique ou politique. Des figures comme Louis-Ferdinand Céline, Édith Piaf ou Georges Brassens y ont puisé leur inspiration, mais aussi des écrivains contemporains comme Jean Rolin, Thierry Jonquet, Philippe Vasset ou Éric Chauvier.
SUMMARY:"À la fin tu es las de ce monde ancien" : enquêtes littéraires au coeur de la zone.
CATEGORIES:Conférence
LOCATION:MIS 03\, 3000 A\, Avenue de l'Europe 20\, 1700 Fribourg
URL;VALUE=URI:https://agenda.unifr.ch/e/fr/10958
END:VEVENT
END:VCALENDAR