BEGIN:VCALENDAR
VERSION:2.0
PRODID:-//UNIFR/WEBMASTER//NONSGML v1.0//EN
CALSCALE:GREGORIAN
BEGIN:VEVENT
DTSTART;VALUE=DATE:20230513T080000
DTEND;VALUE=DATE:20230513T150000
UID:10655@agenda.unifr.ch
DESCRIPTION:Rund 20 Aussteller bieten Ihnen Pflanzen, Setzlinge, Samen und Produkte auf pflanzlicher Basis an. \nAnimationen für Kinder mit MEMO+, der Bibliothek der Stadt Freiburg. «Bistrot du Jardin» mit Raclette, Kuchen, Kaffee und Getränken.\n\nIm Anschluss an den Frühlingsmarkt vom 13.05.2023 findet vom 14.05.-21.05.2023 jeweils von 8:00 – 18:00 ein Pflanzenverkauf im Self-Service statt, mit Pflanzen aus den Kulturen des Botanischen Gartens. \nOrt: Botanischen Garten, unter den Linden\n
SUMMARY:Frühlingsmarkt 2023
CATEGORIES:Andere
LOCATION:Jardin botanique / Botanischer Garten\, Chemin du Musée 10\, 1700 Freiburg / Fribourg
URL;VALUE=URI:https://agenda.unifr.ch/e/de/10655
END:VEVENT
END:VCALENDAR