BEGIN:VCALENDAR
VERSION:2.0
PRODID:-//UNIFR/WEBMASTER//NONSGML v1.0//EN
CALSCALE:GREGORIAN
X-WR-CALNAME: CALACAD - Faculté des lettres
NAME: CALACAD - Faculté des lettres
METHOD:PUBLISH
BEGIN:VTIMEZONE
TZID:Europe/Zurich
X-LIC-LOCATION:Europe/Zurich
BEGIN:DAYLIGHT
TZOFFSETFROM:+0100
TZOFFSETTO:+0200
TZNAME:CEST
DTSTART:19700329T020000
RRULE:FREQ=YEARLY;BYMONTH=3;BYDAY=-1SU
END:DAYLIGHT
BEGIN:STANDARD
TZOFFSETFROM:+0200
TZOFFSETTO:+0100
TZNAME:CET
DTSTART:19701025T030000
RRULE:FREQ=YEARLY;BYMONTH=10;BYDAY=-1SU
END:STANDARD
END:VTIMEZONE
BEGIN:VEVENT
DTSTART;VALUE=DATE:20260526
DTEND;VALUE=DATE:20260527
DTSTAMP:20260425T012610Z
UID:18131@agenda.unifr.ch
DESCRIPTION:
SUMMARY:Frist Annullierung Examenseinschreibung Sommersession
CATEGORIES:Prüfungen
URL;VALUE=URI:https://agenda.unifr.ch/e/de/18131
END:VEVENT
BEGIN:VEVENT
DTSTART;VALUE=DATE:20260629
DTEND;VALUE=DATE:20260801
DTSTAMP:20260425T012610Z
UID:18127@agenda.unifr.ch
DESCRIPTION:
SUMMARY:Examenseinschreibung Herbstsession
CATEGORIES:Prüfungen
URL;VALUE=URI:https://agenda.unifr.ch/e/de/18127
END:VEVENT
BEGIN:VEVENT
DTSTART;VALUE=DATE:20260810
DTEND;VALUE=DATE:20260811
DTSTAMP:20260425T012610Z
UID:18132@agenda.unifr.ch
DESCRIPTION:
SUMMARY:Frist Annullierung Examenseinschreibung Herbstsession
CATEGORIES:Prüfungen
URL;VALUE=URI:https://agenda.unifr.ch/e/de/18132
END:VEVENT
END:VCALENDAR